BEGIN:VCALENDAR
VERSION:2.0
PRODID:-//ChamberMaster//Event Calendar 2.0//EN
METHOD:PUBLISH
X-PUBLISHED-TTL:P3D
REFRESH-INTERVAL:P3D
CALSCALE:GREGORIAN
BEGIN:VEVENT
DTSTART:20210930T220000Z
DTEND:20211001T000000Z
X-MICROSOFT-CDO-ALLDAYEVENT:FALSE
SUMMARY:Entrepreneur Happy Hour
DESCRIPTION:The event is free and open for current and future entrepreneurs and other business leaders\, and no reservation is required. Drinks and appetizers will be served. To be effective at your job\, manage your career\, and find new opportunities\, it's not just what you know and what you can do\, but also who you know. Entrepreneur Happy Hour can be another tool in your professional toolkit to contribute to your success. It's a networking mixer welcoming entrepreneurs and other local business leaders to share an evening to connect and learn from one another.
X-ALT-DESC;FMTTYPE=text/html:<span style="font-family:arial\,sans-serif\;"><span style="font-size:11pt\;">The event is free and open for current and future entrepreneurs and other business leaders\, and no reservation is required. Drinks and appetizers will be served.&nbsp\;</span></span><span style="font-size:11pt\;"><span style="font-family:arial\,sans-serif\;"><span style="color:#050505\;">To be effective at your job\, manage your career\, and find new opportunities\, it&rsquo\;s not just what you know and what you can do\, but also </span></span></span><em style="color:rgb(5\, 5\, 5)\;font-family:Arial\, sans-serif\;font-size:11pt\;">who</em><span style="font-size:11pt\;"><span style="font-family:arial\,sans-serif\;"><span style="color:#050505\;"> you know. Entrepreneur Happy Hour can be another tool in your professional toolkit to contribute to your success. It&rsquo\;s a networking mixer welcoming entrepreneurs and other local business leaders to share an evening to connect and learn from one another.</span></span></span>
LOCATION:This event will take place at Kentucky Innovation Station. 38 West Arch Street\, Madisonville KY\, 42431.
UID:e.1578.5273
SEQUENCE:3
DTSTAMP:20260424T065834Z
URL:https://business.hopkinscochamber.com/events/details/entrepreneur-happy-hour-5273
END:VEVENT

END:VCALENDAR
