BEGIN:VCALENDAR
VERSION:2.0
PRODID:-//ChamberMaster//Event Calendar 2.0//EN
METHOD:PUBLISH
X-PUBLISHED-TTL:P3D
REFRESH-INTERVAL:P3D
CALSCALE:GREGORIAN
BEGIN:VEVENT
DTSTART:20211105T163000Z
DTEND:20211105T173000Z
X-MICROSOFT-CDO-ALLDAYEVENT:FALSE
SUMMARY:Empty Bowls
DESCRIPTION:Enjoy a lunch prepared by our culinary students and take home a bowl made by our art students! Donations will go toward making the holidays special for MNHHS students. *Suggested donation $15.\n\nPlease RSVP by October 29th 2021 to david.campbell@hopkins.kyschools.us or 270-825-6017
X-ALT-DESC;FMTTYPE=text/html:Enjoy a lunch prepared by our culinary students and take home a bowl made by our art students! Donations will go toward making the holidays special for MNHHS students. *Suggested donation $15.<br />\nPlease RSVP by October 29th 2021 to david.campbell@hopkins.kyschools.us or 270-825-6017
LOCATION:Madisonville North Hopkins High School Football Complex 4515 Hanson Road\, Madisonville KY\, 42431
UID:e.1578.5309
SEQUENCE:3
DTSTAMP:20260424T043804Z
URL:https://business.hopkinscochamber.com/events/details/empty-bowls-5309
END:VEVENT

END:VCALENDAR
