BEGIN:VCALENDAR
VERSION:2.0
PRODID:-//ChamberMaster//Event Calendar 2.0//EN
METHOD:PUBLISH
X-PUBLISHED-TTL:P3D
REFRESH-INTERVAL:P3D
CALSCALE:GREGORIAN
BEGIN:VEVENT
DTSTART:20220512T160000Z
DTEND:20220512T180000Z
X-MICROSOFT-CDO-ALLDAYEVENT:FALSE
SUMMARY:Edward Jones Charitable Gift Fund Presentation
DESCRIPTION:If you're on a philanthropic journey now\, or you'd like to leave a specific dollar amount to a charity in the future or you're just starting to think about leaving a legacy - it's important to create a strategy now that gives you control of your finances. The Edward Jones Charitable Gift Fund can offer you flexibility and help provide more certainty to meet your giving goals\, even after you're gone. Giving back. Paying it forward. Making a difference. However you define it\, many of us share the goal of supporting causes with a purpose. \n\nWhether you have a passion to help a specific charity\, or you're beginning to think about leaving a legacy-please join us for the Edward Jones Charitable Fund presentation. \n\n*Lunch will be served.
X-ALT-DESC;FMTTYPE=text/html:<strong><span style="font-size:14px\;"><span style="background:white\;"><span style="color:#1A1A1A\;">If you&#39\;re on a philanthropic journey now\, or you&#39\;d like to leave a specific dollar amount to a charity in the future or you&#39\;re just starting to think about leaving a legacy - it&#39\;s important to create a strategy now that gives you control of your finances. The Edward Jones Charitable Gift Fund can offer you flexibility and help provide more certainty to meet your giving goals\, even after you&#39\;re gone.&nbsp\;</span></span><span style="color:#1A1A1A\;">Giving back. Paying it forward. Making a difference. However you define it\, many of us share the goal of supporting causes with a purpose.&nbsp\;</span><br />\nWhether you have a passion to help a specific charity\, or you&#39\;re beginning to think about leaving a legacy-please join us for the Edward Jones Charitable Fund presentation.&nbsp\;<br />\n*Lunch will be served.&nbsp\;</span></strong><br />\n&nbsp\;
LOCATION:The Hopkins County Regional Chamber of Commerce 15 E Center St Madisonville KY 42431
UID:e.1578.5691
SEQUENCE:3
DTSTAMP:20260423T205829Z
URL:https://business.hopkinscochamber.com/events/details/edward-jones-charitable-gift-fund-presentation-5691
END:VEVENT

END:VCALENDAR
