BEGIN:VCALENDAR
VERSION:2.0
PRODID:-//ChamberMaster//Event Calendar 2.0//EN
METHOD:PUBLISH
X-PUBLISHED-TTL:P3D
REFRESH-INTERVAL:P3D
CALSCALE:GREGORIAN
BEGIN:VEVENT
DTSTART;VALUE=DATE:20240504
DTEND;VALUE=DATE:20240505
TRANSP:TRANSPARENT
X-MICROSOFT-CDO-ALLDAYEVENT:TRUE
SUMMARY:Derby Day Celebration
DESCRIPTION:Save the Date and reserve your seats now as the Madisonville College Foundation\, in partnership with Madisonville Community College\, proudly presents the 2nd Annual Derby Day Celebration!  The Derby Day Celebration will bring together the Madisonville College Foundation\, Madisonville Community College\, and community supporters for a day of enjoyment while supporting the foundation's mission of eliminating financial barriers students may face in attending college. All proceeds will directly benefit student scholarships at Madisonville Community College.
X-ALT-DESC;FMTTYPE=text/html:Save the Date and reserve your seats now as the Madisonville College Foundation\, in partnership with Madisonville Community College\, proudly presents the 2<sup>nd</sup> Annual <strong>Derby Day Celebration</strong>!&nbsp\; The Derby Day Celebration will bring together the Madisonville College Foundation\, Madisonville Community College\, and community supporters for a day of enjoyment while supporting the foundation&#39\;s mission of eliminating financial barriers students may face in attending college. All proceeds will directly benefit student scholarships at Madisonville Community College.
LOCATION:Beshear Building - Madisonville Community College
UID:e.1578.5980
SEQUENCE:3
DTSTAMP:20260422T111458Z
URL:https://business.hopkinscochamber.com/events/details/derby-day-celebration-5980
END:VEVENT

END:VCALENDAR
