BEGIN:VCALENDAR
VERSION:2.0
PRODID:-//ChamberMaster//Event Calendar 2.0//EN
METHOD:PUBLISH
X-PUBLISHED-TTL:P3D
REFRESH-INTERVAL:P3D
CALSCALE:GREGORIAN
BEGIN:VEVENT
DTSTART:20211210T160000Z
DTEND:20211211T210000Z
X-MICROSOFT-CDO-ALLDAYEVENT:FALSE
SUMMARY:Deck the Park Christmas Bazaar
DESCRIPTION:Stop by the Deck the Park Christmas Bazaar and cross a few names off your gift list. Enjoy some yummy food and let the kids visit with Santa!
X-ALT-DESC;FMTTYPE=text/html:<span style="color: rgb(5\, 5\, 5)\; font-family: &quot\;Segoe UI Historic&quot\;\, &quot\;Segoe UI&quot\;\, Helvetica\, Arial\, sans-serif\; font-size: 15px\; background-color: rgb(255\, 255\, 255)\;">Stop by the&nbsp\;</span><span style="color: rgb(5\, 5\, 5)\; font-family: &quot\;Segoe UI Historic&quot\;\, &quot\;Segoe UI&quot\;\, Helvetica\, Arial\, sans-serif\; font-size: 15px\; background-color: rgb(255\, 255\, 255)\;">Deck the Park Christmas Bazaar&nbsp\;</span><span style="color: rgb(5\, 5\, 5)\; font-family: &quot\;Segoe UI Historic&quot\;\, &quot\;Segoe UI&quot\;\, Helvetica\, Arial\, sans-serif\; font-size: 15px\; background-color: rgb(255\, 255\, 255)\;">and cross a few names off your gift list. Enjoy some yummy food and let the kids visit with Santa!</span>
LOCATION:City Park Club House
UID:e.1578.5324
SEQUENCE:3
DTSTAMP:20260424T031541Z
URL:https://business.hopkinscochamber.com/events/details/deck-the-park-christmas-bazaar-5324
END:VEVENT

END:VCALENDAR
