BEGIN:VCALENDAR
VERSION:2.0
PRODID:-//ChamberMaster//Event Calendar 2.0//EN
METHOD:PUBLISH
X-PUBLISHED-TTL:P3D
REFRESH-INTERVAL:P3D
CALSCALE:GREGORIAN
BEGIN:VEVENT
DTSTART;VALUE=DATE:20201126
DTEND;VALUE=DATE:20210102
TRANSP:TRANSPARENT
X-MICROSOFT-CDO-ALLDAYEVENT:TRUE
SUMMARY:Deck The Park
DESCRIPTION:The Hopkins County Tourist & Convention Commission and the City of Madisonville are excited to present Deck the Park featuring Liquid Fireworks by Waltzing Waters\, Inc. This elaborate show incorporates water\, lights and Christmas music while allowing families to enjoy from the comfort of their vehicles.  The Liquid Fireworks show will take place nightly from 5 pm   10 pm at the Madisonville City Park beginning on November 26 running through January 1\, 2021.  Visitors are asked to enter the Madisonville City Park at 755 Park Ave.\, Madisonville and will exit the park via McCoy Ave.  Admission is free.\n\nHopkins County Tourist & Convention Commission Executive Director\, Tricia Noel said\, "This will be the first time that a show of this nature has appeared in this region.  Waltzing Waters\, Inc. has gained international recognition as the world's foremost leaders in the production of water\, light\, and music spectaculars and we are very pleased that we were able to secure them for the holiday season."\n\nFood trucks will be onsite\, offering drive-thru service only\, Friday through Sunday evenings.
X-ALT-DESC;FMTTYPE=text/html:<p style="line-height: 1.7\; margin-right: 0px\; margin-left: 0px\; color: rgb(0\, 0\, 0)\; font-family: Roboto\; font-size: 16px\; margin-top: 1rem !important\; margin-bottom: 1rem !important\; background-attachment: unset !important\;">The Hopkins County Tourist &amp\; Convention Commission and the City of Madisonville are excited to present Deck the Park featuring Liquid Fireworks by Waltzing Waters\, Inc. This elaborate show incorporates water\, lights and Christmas music while allowing families to enjoy from the comfort of their vehicles.&nbsp\; The Liquid Fireworks show will take place nightly from 5 pm &ndash\; 10 pm at the Madisonville City Park beginning on November 26 running through January 1\, 2021.&nbsp\; Visitors are asked to enter the Madisonville City Park at 755 Park Ave.\, Madisonville and will exit the park via McCoy Ave.&nbsp\; Admission is free.</p>\n\n<p style="line-height: 1.7\; margin-right: 0px\; margin-left: 0px\; color: rgb(0\, 0\, 0)\; font-family: Roboto\; font-size: 16px\; margin-top: 1rem !important\; margin-bottom: 1rem !important\; background-attachment: unset !important\;">Hopkins County Tourist &amp\; Convention Commission Executive Director\, Tricia Noel said\, &ldquo\;This will be the first time that a show of this nature has appeared in this region.&nbsp\; Waltzing Waters\, Inc. has gained international recognition as the world&rsquo\;s foremost leaders in the production of water\, light\, and music spectaculars and we are very pleased that we were able to secure them for the holiday season.&rdquo\;</p>\n\n<p style="line-height: 1.7\; margin-right: 0px\; margin-left: 0px\; color: rgb(0\, 0\, 0)\; font-family: Roboto\; font-size: 16px\; margin-top: 1rem !important\; margin-bottom: 1rem !important\; background-attachment: unset !important\;">Food trucks will be onsite\, offering drive-thru service only\, Friday through Sunday evenings.</p>\n\n<p style="line-height: 1.7\; margin-right: 0px\; margin-left: 0px\; color: rgb(0\, 0\, 0)\; font-family: Roboto\; font-size: 16px\; margin-top: 1rem !important\; margin-bottom: 1rem !important\; background-attachment: unset !important\;">&nbsp\;</p>\n\n<p style="line-height: 1.7\; margin-right: 0px\; margin-left: 0px\; color: rgb(0\, 0\, 0)\; font-family: Roboto\; font-size: 16px\; margin-top: 1rem !important\; margin-bottom: 1rem !important\; background-attachment: unset !important\;">&nbsp\;</p>\n
LOCATION:
UID:e.1578.4372
SEQUENCE:3
DTSTAMP:20260424T171542Z
URL:https://business.hopkinscochamber.com/events/details/deck-the-park-4372
END:VEVENT

END:VCALENDAR
