BEGIN:VCALENDAR
VERSION:2.0
PRODID:-//ChamberMaster//Event Calendar 2.0//EN
METHOD:PUBLISH
X-PUBLISHED-TTL:P3D
REFRESH-INTERVAL:P3D
CALSCALE:GREGORIAN
BEGIN:VEVENT
DTSTART:20230117T233000Z
DTEND:20230118T013000Z
X-MICROSOFT-CDO-ALLDAYEVENT:FALSE
SUMMARY:Dawson Springs City Council Meeting
DESCRIPTION:
X-ALT-DESC;FMTTYPE=text/html:
LOCATION:
UID:e.1578.5681
SEQUENCE:3
DTSTAMP:20260423T102950Z
URL:https://business.hopkinscochamber.com/events/details/dawson-springs-city-council-meeting-01-17-2023-5681
END:VEVENT

END:VCALENDAR
