BEGIN:VCALENDAR
VERSION:2.0
PRODID:-//ChamberMaster//Event Calendar 2.0//EN
METHOD:PUBLISH
X-PUBLISHED-TTL:P3D
REFRESH-INTERVAL:P3D
CALSCALE:GREGORIAN
BEGIN:VEVENT
DTSTART:20260518T133000Z
DTEND:20260518T153000Z
X-MICROSOFT-CDO-ALLDAYEVENT:FALSE
SUMMARY:Cyber Security for Small Businesses Workshop
DESCRIPTION:Cyber threats are no longer just a "big business" problem. Small businesses are increasingly targeted\, and often the least prepared. This 2 hour Cyber Security for Small Business workshop is designed to give business owners\, managers\, and staff practical tools to protect their data\, systems\, and customers.\n\nParticipants will learn:\n\n	Common cyber threats facing small businesses\n	How to recognize phishing\, scams\, and social engineering attempts\n	Best practices for passwords\, email\, and data protection\n	Simple\, cost effective steps to reduce risk\n	What to do if a cyber incident occurs\n\nThis session is beginner friendly\, practical\, and focused on real world scenarios small businesses face every day.
X-ALT-DESC;FMTTYPE=text/html:<span style="font-family:century gothic\,sans-serif\;">Cyber threats are no longer just a &ldquo\;big business&rdquo\; problem. Small businesses are increasingly targeted\, and often the least prepared. This 2&#8209\;hour Cyber Security for Small Business workshop&nbsp\;is designed to give business owners\, managers\, and staff practical tools to protect their data\, systems\, and customers.</span><br />\n<span style="font-family:century gothic\,sans-serif\;">Participants will learn:</span>\n<ul>\n	<li style="line-height:15pt\;background:white\;"><span style="font-family:century gothic\,sans-serif\;">Common cyber threats facing small businesses</span></li>\n	<li style="line-height:15pt\;background:white\;"><span style="font-family:century gothic\,sans-serif\;">How to recognize phishing\, scams\, and social engineering attempts</span></li>\n	<li style="line-height:15pt\;background:white\;"><span style="font-family:century gothic\,sans-serif\;">Best practices for passwords\, email\, and data protection</span></li>\n	<li style="line-height:15pt\;background:white\;"><span style="font-family:century gothic\,sans-serif\;">Simple\, cost&#8209\;effective steps to reduce risk</span></li>\n	<li style="line-height:15pt\;background:white\;"><span style="font-family:century gothic\,sans-serif\;">What to do if a cyber incident occurs</span></li>\n</ul>\n<span style="font-family:century gothic\,sans-serif\;">This session is beginner&#8209\;friendly\, practical\, and focused on real&#8209\;world scenarios small businesses face every day.</span>
LOCATION:MCC Workforce Solutions Brown Badgett Building\, MCC Campus 1980 College Dr. Madisonville KY 42431
UID:e.1578.9979
SEQUENCE:3
DTSTAMP:20260421T175402Z
URL:https://business.hopkinscochamber.com/events/details/cyber-security-for-small-businesses-workshop-9979
END:VEVENT

END:VCALENDAR
