BEGIN:VCALENDAR
VERSION:2.0
PRODID:-//ChamberMaster//Event Calendar 2.0//EN
METHOD:PUBLISH
X-PUBLISHED-TTL:P3D
REFRESH-INTERVAL:P3D
CALSCALE:GREGORIAN
BEGIN:VEVENT
DTSTART:20240830T160000Z
DTEND:20240830T190000Z
X-MICROSOFT-CDO-ALLDAYEVENT:FALSE
SUMMARY:Cookin' For The Cure
DESCRIPTION:Come by and get lunch with First United Bank & Calhouns Custom Meats. You can get chicken or a burger with chips\, dessert\, and a beverage for $10! Proceeds will benefit the Mahr Cancer Center.
X-ALT-DESC;FMTTYPE=text/html:Come by and get lunch with First United Bank &amp\; Calhouns Custom Meats. You can get chicken or a burger with chips\, dessert\, and a beverage for $10! Proceeds will benefit the Mahr Cancer Center.&nbsp\;<br />\n&nbsp\;
LOCATION:First United Bank 162 N Main St. Madisonville KY 42431
UID:e.1578.6007
SEQUENCE:3
DTSTAMP:20260420T075111Z
URL:https://business.hopkinscochamber.com/events/details/cookin-for-the-cure-6007
END:VEVENT

END:VCALENDAR
