BEGIN:VCALENDAR
VERSION:2.0
PRODID:-//ChamberMaster//Event Calendar 2.0//EN
METHOD:PUBLISH
X-PUBLISHED-TTL:P3D
REFRESH-INTERVAL:P3D
CALSCALE:GREGORIAN
BEGIN:VEVENT
DTSTART:20210421T213000Z
DTEND:20210421T233000Z
X-MICROSOFT-CDO-ALLDAYEVENT:FALSE
SUMMARY:Cookie Decorating Class with Richard's Rustic Wood Works
DESCRIPTION:Cookie Decorating Class with Richard's Rustic Wood Works\n\nClass is suggested for ages 12+\n\nYou will be provided with 3 sugar cookies and a carry-away box.  This class will provide all of the tools that are needed with different colored royal icing.\n\nWe will have to meet a minimum of 10 people\, or move to a different date.
X-ALT-DESC;FMTTYPE=text/html:Cookie Decorating Class with Richard&#39\;s Rustic Wood Works<br />\nClass is suggested for ages 12+<br />\nYou will be provided with 3 sugar cookies and a carry-away box.&nbsp\; This class will provide all of the tools that are needed with different colored royal icing.<br />\nWe will have to meet a minimum of 10 people\, or move to a different date.
LOCATION:Hopkins County Chamber of Commerce 15 E. Center Street
UID:e.1578.4748
SEQUENCE:3
DTSTAMP:20260424T133023Z
URL:https://business.hopkinscochamber.com/events/details/cookie-decorating-class-with-richard-s-rustic-wood-works-4748
END:VEVENT

END:VCALENDAR
