BEGIN:VCALENDAR
VERSION:2.0
PRODID:-//ChamberMaster//Event Calendar 2.0//EN
METHOD:PUBLISH
X-PUBLISHED-TTL:P3D
REFRESH-INTERVAL:P3D
CALSCALE:GREGORIAN
BEGIN:VEVENT
DTSTART:20240914T220000Z
DTEND:20240915T000000Z
X-MICROSOFT-CDO-ALLDAYEVENT:FALSE
SUMMARY:Come on Home
DESCRIPTION:Join Habitat for Humanity for their Come on Home Event!
X-ALT-DESC;FMTTYPE=text/html:Join Habitat for Humanity for their Come on Home Event!&nbsp\;<br />\n&nbsp\;
LOCATION:Mahr Park Event Barn A
UID:e.1578.5990
SEQUENCE:3
DTSTAMP:20260420T060550Z
URL:https://business.hopkinscochamber.com/events/details/come-on-home-5990
END:VEVENT

END:VCALENDAR
