BEGIN:VCALENDAR
VERSION:2.0
PRODID:-//ChamberMaster//Event Calendar 2.0//EN
METHOD:PUBLISH
X-PUBLISHED-TTL:P3D
REFRESH-INTERVAL:P3D
CALSCALE:GREGORIAN
BEGIN:VEVENT
DTSTART:20250219T150000Z
DTEND:20250219T220000Z
X-MICROSOFT-CDO-ALLDAYEVENT:FALSE
SUMMARY:Coffee & Closeup's
DESCRIPTION:Do you need a new headshot for your website\, resume\, business cards\, or personal use? Then this is the perfect event for you! Come to the Chamber office and network\, enjoy a cup of coffee\, and get a new headshot done by Barbara Yonts. To register\, please email office@hopkinschamber.com or call 270-821-3435.
X-ALT-DESC;FMTTYPE=text/html:<span style="color: rgb(8\, 8\, 9)\; font-family: &quot\;Segoe UI Historic&quot\;\, &quot\;Segoe UI&quot\;\, Helvetica\, Arial\, sans-serif\; font-size: 15px\; background-color: rgb(255\, 255\, 255)\;">Do you need a new headshot for your website\, resume\, business cards\, or personal use? Then this is the perfect event for you! Come to the Chamber office and network\, enjoy a cup of coffee\, and get a new headshot done by Barbara Yonts. <u>To register\, please email office@hopkinschamber.com or call 270-821-3435.</u></span>
LOCATION:Chamber Office 15 E Center St Madisonville\, KY 42431
UID:e.1578.6019
SEQUENCE:3
DTSTAMP:20260419T220911Z
URL:https://business.hopkinscochamber.com/events/details/coffee-closeup-s-6019
END:VEVENT

END:VCALENDAR
