BEGIN:VCALENDAR
VERSION:2.0
PRODID:-//ChamberMaster//Event Calendar 2.0//EN
METHOD:PUBLISH
X-PUBLISHED-TTL:P3D
REFRESH-INTERVAL:P3D
CALSCALE:GREGORIAN
BEGIN:VEVENT
DTSTART:20221109T150000Z
DTEND:20221110T000000Z
X-MICROSOFT-CDO-ALLDAYEVENT:FALSE
SUMMARY:Coffee & Closeup's
DESCRIPTION:Do you enjoy coffee? Do you also need a new headshot for your website\, resume\, business cards\, or personal use? Then this is the perfect event for you! Come to the Chamber office and enjoy a cup of coffee from Simply Poured\, and get a new headshot done by Barbara Yonts.\n\nBe sure to specify which time block you'd like in the comments section when registering. \n\nSome time slots are already full\, so the blocks with open spots are as follows:\n\n12 - 1 p.m. : 4 spots left\n\n1 - 2 p.m. : 5 spots left\n\n2 - 3 p.m. : 6 spots left\n\n3 - 4 p.m. : 5 spots left\n\n4 - 6 p.m. : 7 spots left
X-ALT-DESC;FMTTYPE=text/html:Do you enjoy coffee? Do you also need a new headshot for your website\, resume\, business cards\, or personal use? Then this is the perfect event for you! Come to the Chamber office and enjoy a cup of coffee from Simply Poured\, and get a new headshot done by Barbara Yonts.<br />\n<strong><span style="font-size:20px\;">Be sure to specify which time block you&#39\;d like in the comments section when registering.</span>&nbsp\;</strong><br />\nSome time slots are already full\, so the blocks with open spots are as follows:<br />\n12 - 1 p.m. : 4 spots left<br />\n1 - 2 p.m. : 5 spots left<br />\n2 - 3 p.m. : 6 spots left<br />\n3 - 4 p.m. : 5 spots left<br />\n4 - 6 p.m. : 7 spots left<br />\n&nbsp\;
LOCATION:Chamber Office 15 E. Center St. Madisonville\, KY 42431
UID:e.1578.5928
SEQUENCE:3
DTSTAMP:20260423T130024Z
URL:https://business.hopkinscochamber.com/events/details/coffee-closeup-s-5928
END:VEVENT

END:VCALENDAR
