BEGIN:VCALENDAR
VERSION:2.0
PRODID:-//ChamberMaster//Event Calendar 2.0//EN
METHOD:PUBLISH
X-PUBLISHED-TTL:P3D
REFRESH-INTERVAL:P3D
CALSCALE:GREGORIAN
BEGIN:VEVENT
DTSTART:20210811T163000Z
DTEND:20210811T170000Z
X-MICROSOFT-CDO-ALLDAYEVENT:FALSE
SUMMARY:City of Madisonville City Council Meeting
DESCRIPTION:
X-ALT-DESC;FMTTYPE=text/html:
LOCATION:This meeting will be held in the City Council Chambers\, at 77 North Main Street\, 2nd floor.
UID:e.1578.5208
SEQUENCE:3
DTSTAMP:20260424T083829Z
URL:https://business.hopkinscochamber.com/events/details/city-of-madisonville-city-council-meeting-5208
END:VEVENT

END:VCALENDAR
