BEGIN:VCALENDAR
VERSION:2.0
PRODID:-//ChamberMaster//Event Calendar 2.0//EN
METHOD:PUBLISH
X-PUBLISHED-TTL:P3D
REFRESH-INTERVAL:P3D
CALSCALE:GREGORIAN
BEGIN:VEVENT
DTSTART:20221203T230000Z
DTEND:20221204T010000Z
X-MICROSOFT-CDO-ALLDAYEVENT:FALSE
SUMMARY:Christmas Parade
DESCRIPTION:Join us for the annual Christmas Parade put on by the Kiwanis Club of Madisonville.\n\nRain date will be December 10th at 5 p.m.
X-ALT-DESC;FMTTYPE=text/html:Join us for the annual Christmas Parade put on by the Kiwanis Club of Madisonville.<br />\nRain date will be December 10th at 5 p.m.
LOCATION:Downtown Madisonville
UID:e.1578.5929
SEQUENCE:3
DTSTAMP:20260423T113820Z
URL:https://business.hopkinscochamber.com/events/details/christmas-parade-5929
END:VEVENT

END:VCALENDAR
