BEGIN:VCALENDAR
VERSION:2.0
PRODID:-//ChamberMaster//Event Calendar 2.0//EN
METHOD:PUBLISH
X-PUBLISHED-TTL:P3D
REFRESH-INTERVAL:P3D
CALSCALE:GREGORIAN
BEGIN:VEVENT
DTSTART:20240921T210000Z
DTEND:20240922T010000Z
X-MICROSOFT-CDO-ALLDAYEVENT:FALSE
SUMMARY:Christ the King Picnic
DESCRIPTION:Christ the King 40th Annual Old Fashioned BBQ We will be serving Mutton\, Pork\, Chicken and Burgoo along with cole slaw and potato salad. We will have music\, games\, lemon shakeups\, sno cones\, cake wheel\, basket raffle and cash raffle. Eat in from 4-7:30pm and drive thru from 4-6pm.
X-ALT-DESC;FMTTYPE=text/html:Christ the King 40th Annual Old Fashioned BBQ We will be serving Mutton\, Pork\, Chicken and Burgoo along with cole slaw and potato salad. We will have music\, games\, lemon shakeups\, sno cones\, cake wheel\, basket raffle and cash raffle. Eat in from 4-7:30pm and drive thru from 4-6pm.
LOCATION:1500 Kingsway Drive Madisonville KY
UID:e.1578.6003
SEQUENCE:3
DTSTAMP:20260420T060804Z
URL:https://business.hopkinscochamber.com/events/details/christ-the-king-picnic-6003
END:VEVENT

END:VCALENDAR
