BEGIN:VCALENDAR
VERSION:2.0
PRODID:-//ChamberMaster//Event Calendar 2.0//EN
METHOD:PUBLISH
X-PUBLISHED-TTL:P3D
REFRESH-INTERVAL:P3D
CALSCALE:GREGORIAN
BEGIN:VEVENT
DTSTART;VALUE=DATE:20230916
DTEND;VALUE=DATE:20230925
TRANSP:TRANSPARENT
X-MICROSOFT-CDO-ALLDAYEVENT:TRUE
SUMMARY:Chamber Travel Trip - IRELAND
DESCRIPTION:Explore Ireland with it's epic mountain peaks\, magnificent coastlines\, lofty lighthouses and rich greenery. The islands lush vegetation\, a product of its mild climate and frequent rainfall\, earns it the name of the Emerald Isle.\n\n\n\nDestinations:\n\nDublin\n\nCork\n\nKillarney\n\nDoolin\n\nBru Na Boinne\n\n\n\nIncludes:\n\nRoundtrip international airfare & tax\n\n9 Day deluxe tour package\n\n4 & 5 star hotel accommodations\n\nBreakfast and lunch every day\n\nDeluxe bus transportation\n\nFluent English-speaking tour guides\n\nEntrance fees to all attractions\n\n\n\nClick HERE for more information\n\nClick HERE for registration form
X-ALT-DESC;FMTTYPE=text/html:Explore Ireland with it&#39\;s epic mountain peaks\, magnificent coastlines\, lofty lighthouses and rich greenery. The islands lush vegetation\, a product of its mild climate and frequent rainfall\, earns it the name of the Emerald Isle.<br />\n<br />\nDestinations:<br />\nDublin<br />\nCork<br />\nKillarney<br />\nDoolin<br />\nBru Na Boinne<br />\n<br />\nIncludes:<br />\nRoundtrip international airfare &amp\; tax<br />\n9 Day deluxe tour package<br />\n4 &amp\; 5 star hotel accommodations<br />\nBreakfast and lunch every day<br />\nDeluxe bus transportation<br />\nFluent English-speaking tour guides<br />\nEntrance fees to all attractions<br />\n<br />\nClick <a href="https://files.constantcontact.com/deaf4183201/38f1b8b7-7f31-40f9-b624-30bda3583253.pdf">HERE</a> for more information<br />\nClick <a href="https://files.constantcontact.com/deaf4183201/6e9e7bed-8eeb-4a9e-869e-e2b090414120.pdf">HERE </a>for registration form
LOCATION:Departs from & arrives back at Nashville International Airport.
UID:e.1578.5935
SEQUENCE:3
DTSTAMP:20260423T022137Z
URL:https://business.hopkinscochamber.com/events/details/chamber-travel-trip-ireland-5935
END:VEVENT

END:VCALENDAR
