BEGIN:VCALENDAR
VERSION:2.0
PRODID:-//ChamberMaster//Event Calendar 2.0//EN
METHOD:PUBLISH
X-PUBLISHED-TTL:P3D
REFRESH-INTERVAL:P3D
CALSCALE:GREGORIAN
BEGIN:VEVENT
DTSTART;VALUE=DATE:20221201
DTEND;VALUE=DATE:20221210
TRANSP:TRANSPARENT
X-MICROSOFT-CDO-ALLDAYEVENT:TRUE
SUMMARY:Chamber Travel Adventures- ITALY
DESCRIPTION:December 1-9\, 2022\n\n$3\,399.00\n\nJoin us on a classic tour of Italy's most iconic cities\, from the legendary Colosseum in Rome\, to the historic sights in Vatican City\, to the Renaissance heritage of Florence\, and the romantic canals of Venice. Immerse yourself in the language and culture\, food and fashion\, art and architecture\, history and myths. Whether it's the gondola rides and soft sunsets at Venice\, the sweeping landscape and vineyards in Tuscany or the iconic larger-than-life sites in Rome Italy invites you to slow down and soak it all in. Join us on this trip of a lifetime.\n\n \n\nPackage Includes:\n\n\n	\n	Roundtrip airfare from Indianapolis International Airport\n	\n	\n	9-Day deluxe tour package \n	\n	\n	4 & 5 star hotel accommodation\n	\n	\n	Breakfast & lunch each day\n	\n	\n	Deluxe bus transportation\n	\n	\n	Fluent English-speaking tour guides\n	\n	\n	Entrance fees to all attractions\n\n	\n\n	 \n	\n\n\nClick HERE for more information.\n\nClick HERE for registration form.
X-ALT-DESC;FMTTYPE=text/html:<div>\n<p class="font_8" style="margin: 0px\; padding: 0px\; border: 0px\; outline: 0px\; vertical-align: baseline\; background-image: initial\; background-position: initial\; background-size: initial\; background-repeat: initial\; background-attachment: initial\; background-origin: initial\; background-clip: initial\; pointer-events: auto\; font-size: 22px\; line-height: 1.8em\;"><span style="font-size:16px\;"><span style="font-family:arial\;"><span style="margin: 0px\; padding: 0px\; border: 0px\; outline: 0px\; vertical-align: baseline\; background-image: initial\; background-position: initial\; background-size: initial\; background-repeat: initial\; background-attachment: initial\; background-origin: initial\; background-clip: initial\;">December 1-9\, 2022</span></span></span></p>\n\n<p class="font_8" style="margin: 0px\; padding: 0px\; border: 0px\; outline: 0px\; vertical-align: baseline\; background-image: initial\; background-position: initial\; background-size: initial\; background-repeat: initial\; background-attachment: initial\; background-origin: initial\; background-clip: initial\; pointer-events: auto\; font-size: 22px\; line-height: 1.8em\;"><span style="font-size:16px\;"><span style="font-family:arial\;"><span style="margin: 0px\; padding: 0px\; border: 0px\; outline: 0px\; vertical-align: baseline\; background-image: initial\; background-position: initial\; background-size: initial\; background-repeat: initial\; background-attachment: initial\; background-origin: initial\; background-clip: initial\;">$3\,399.00</span></span></span></p>\n\n<p class="font_8" style="margin: 0px\; padding: 0px\; border: 0px\; outline: 0px\; vertical-align: baseline\; background-image: initial\; background-position: initial\; background-size: initial\; background-repeat: initial\; background-attachment: initial\; background-origin: initial\; background-clip: initial\; pointer-events: auto\; font-size: 18px\; line-height: 1.8em\;"><span style="font-size:16px\;"><span style="font-family:arial\;"><span style="margin: 0px\; padding: 0px\; border: 0px\; outline: 0px\; vertical-align: baseline\; background-image: initial\; background-position: initial\; background-size: initial\; background-repeat: initial\; background-attachment: initial\; background-origin: initial\; background-clip: initial\;"><span style="margin: 0px\; padding: 0px\; border: 0px\; outline: 0px\; vertical-align: baseline\; background-image: initial\; background-position: initial\; background-size: initial\; background-repeat: initial\; background-attachment: initial\; background-origin: initial\; background-clip: initial\;">Join us on a classic tour of Italy&#39\;s most iconic cities\, from the legendary Colosseum in Rome\, to the historic sights in Vatican City\, to the Renaissance heritage of Florence\, and the romantic canals of Venice. Immerse yourself in the language and culture\, food and fashion\, art and architecture\, history and myths. Whether it&rsquo\;s the gondola rides and soft sunsets at Venice\, the sweeping landscape and vineyards in Tuscany or the iconic larger-than-life sites in Rome&mdash\;Italy invites you to slow down and soak it all in. Join us on this trip of a lifetime.</span></span></span></span></p>\n\n<p class="font_8" style="margin: 0px\; padding: 0px\; border: 0px\; outline: 0px\; vertical-align: baseline\; background-image: initial\; background-position: initial\; background-size: initial\; background-repeat: initial\; background-attachment: initial\; background-origin: initial\; background-clip: initial\; pointer-events: auto\; font-size: 18px\; line-height: 1.8em\;"><span style="font-size:16px\;"><span style="font-family:arial\;"><span style="margin: 0px\; padding: 0px\; border: 0px\; outline: 0px\; vertical-align: baseline\; background-image: initial\; background-position: initial\; background-size: initial\; background-repeat: initial\; background-attachment: initial\; background-origin: initial\; background-clip: initial\;"><span style="margin: 0px\; padding: 0px\; border: 0px\; outline: 0px\; vertical-align: baseline\; background-image: initial\; background-position: initial\; background-size: initial\; background-repeat: initial\; background-attachment: initial\; background-origin: initial\; background-clip: initial\;">&#8203\;</span></span></span></span></p>\n\n<p class="font_8" style="margin: 0px\; padding: 0px\; border: 0px\; outline: 0px\; vertical-align: baseline\; background-image: initial\; background-position: initial\; background-size: initial\; background-repeat: initial\; background-attachment: initial\; background-origin: initial\; background-clip: initial\; pointer-events: auto\; font-size: 18px\; line-height: 1.8em\;"><span style="font-size:16px\;"><span style="font-family:arial\;"><span style="margin: 0px\; padding: 0px\; border: 0px\; outline: 0px\; vertical-align: baseline\; background-image: initial\; background-position: initial\; background-size: initial\; background-repeat: initial\; background-attachment: initial\; background-origin: initial\; background-clip: initial\;"><span style="margin: 0px\; padding: 0px\; border: 0px\; outline: 0px\; vertical-align: baseline\; background-image: initial\; background-position: initial\; background-size: initial\; background-repeat: initial\; background-attachment: initial\; background-origin: initial\; background-clip: initial\; font-weight: bold\;"><span style="margin: 0px\; padding: 0px\; border: 0px\; outline: 0px\; vertical-align: baseline\; background-image: initial\; background-position: initial\; background-size: initial\; background-repeat: initial\; background-attachment: initial\; background-origin: initial\; background-clip: initial\;">Package Includes:</span></span></span></span></span></p>\n\n<ul class="font_8" style="margin: 0px 0px 0px 0.5em\; padding: 0px 0px 0px 1.3em\; border: 0px\; outline: 0px\; vertical-align: baseline\; background-image: initial\; background-position: initial\; background-size: initial\; background-repeat: initial\; background-attachment: initial\; background-origin: initial\; background-clip: initial\; list-style-position: initial\; list-style-image: initial\; pointer-events: auto\; font-size: 18px\; line-height: normal\; font-family: arial\, &quot\;&#65357\;&#65363\; &#65360\;&#12468\;&#12471\;&#12483\;&#12463\;&quot\;\, &quot\;ms pgothic&quot\;\, &#46027\;&#50880\;\, dotum\, helvetica\, sans-serif\;">\n	<li style="margin: 0px\; padding: 0px\; border: 0px\; outline: 0px\; vertical-align: baseline\; background-image: initial\; background-position: initial\; background-size: initial\; background-repeat: initial\; background-attachment: initial\; background-origin: initial\; background-clip: initial\; font-style: inherit\; font-weight: inherit\; line-height: inherit\;">\n	<p class="font_8" style="margin: 0px\; padding: 0px\; border: 0px\; outline: 0px\; vertical-align: baseline\; background-image: initial\; background-position: initial\; background-size: initial\; background-repeat: initial\; background-attachment: initial\; background-origin: initial\; background-clip: initial\; color: rgb(var(--color_15))\; letter-spacing: 0em\;"><span style="font-size:16px\;"><span style="font-family:arial\;"><span style="margin: 0px\; padding: 0px\; border: 0px\; outline: 0px\; vertical-align: baseline\; background-image: initial\; background-position: initial\; background-size: initial\; background-repeat: initial\; background-attachment: initial\; background-origin: initial\; background-clip: initial\;">Roundtrip airfare from Indianapolis&nbsp\;International Airport</span></span></span></p>\n	</li>\n	<li style="margin: 0px\; padding: 0px\; border: 0px\; outline: 0px\; vertical-align: baseline\; background-image: initial\; background-position: initial\; background-size: initial\; background-repeat: initial\; background-attachment: initial\; background-origin: initial\; background-clip: initial\; font-style: inherit\; font-weight: inherit\; line-height: inherit\;">\n	<p class="font_8" style="margin: 0px\; padding: 0px\; border: 0px\; outline: 0px\; vertical-align: baseline\; background-image: initial\; background-position: initial\; background-size: initial\; background-repeat: initial\; background-attachment: initial\; background-origin: initial\; background-clip: initial\; color: rgb(var(--color_15))\; letter-spacing: 0em\;"><span style="font-size:16px\;"><span style="font-family:arial\;"><span style="margin: 0px\; padding: 0px\; border: 0px\; outline: 0px\; vertical-align: baseline\; background-image: initial\; background-position: initial\; background-size: initial\; background-repeat: initial\; background-attachment: initial\; background-origin: initial\; background-clip: initial\;">9-Day deluxe tour package&nbsp\;</span></span></span></p>\n	</li>\n	<li style="margin: 0px\; padding: 0px\; border: 0px\; outline: 0px\; vertical-align: baseline\; background-image: initial\; background-position: initial\; background-size: initial\; background-repeat: initial\; background-attachment: initial\; background-origin: initial\; background-clip: initial\; font-style: inherit\; font-weight: inherit\; line-height: inherit\;">\n	<p class="font_8" style="margin: 0px\; padding: 0px\; border: 0px\; outline: 0px\; vertical-align: baseline\; background-image: initial\; background-position: initial\; background-size: initial\; background-repeat: initial\; background-attachment: initial\; background-origin: initial\; background-clip: initial\; color: rgb(var(--color_15))\; letter-spacing: 0em\;"><span style="font-size:16px\;"><span style="font-family:arial\;"><span style="margin: 0px\; padding: 0px\; border: 0px\; outline: 0px\; vertical-align: baseline\; background-image: initial\; background-position: initial\; background-size: initial\; background-repeat: initial\; background-attachment: initial\; background-origin: initial\; background-clip: initial\;">4 &amp\; 5 star hotel accommodation</span></span></span></p>\n	</li>\n	<li style="margin: 0px\; padding: 0px\; border: 0px\; outline: 0px\; vertical-align: baseline\; background-image: initial\; background-position: initial\; background-size: initial\; background-repeat: initial\; background-attachment: initial\; background-origin: initial\; background-clip: initial\; font-style: inherit\; font-weight: inherit\; line-height: inherit\;">\n	<p class="font_8" style="margin: 0px\; padding: 0px\; border: 0px\; outline: 0px\; vertical-align: baseline\; background-image: initial\; background-position: initial\; background-size: initial\; background-repeat: initial\; background-attachment: initial\; background-origin: initial\; background-clip: initial\; color: rgb(var(--color_15))\; letter-spacing: 0em\;"><span style="font-size:16px\;"><span style="font-family:arial\;"><span style="margin: 0px\; padding: 0px\; border: 0px\; outline: 0px\; vertical-align: baseline\; background-image: initial\; background-position: initial\; background-size: initial\; background-repeat: initial\; background-attachment: initial\; background-origin: initial\; background-clip: initial\;">Breakfast &amp\; lunch each day</span></span></span></p>\n	</li>\n	<li style="margin: 0px\; padding: 0px\; border: 0px\; outline: 0px\; vertical-align: baseline\; background-image: initial\; background-position: initial\; background-size: initial\; background-repeat: initial\; background-attachment: initial\; background-origin: initial\; background-clip: initial\; font-style: inherit\; font-weight: inherit\; line-height: inherit\;">\n	<p class="font_8" style="margin: 0px\; padding: 0px\; border: 0px\; outline: 0px\; vertical-align: baseline\; background-image: initial\; background-position: initial\; background-size: initial\; background-repeat: initial\; background-attachment: initial\; background-origin: initial\; background-clip: initial\; color: rgb(var(--color_15))\; letter-spacing: 0em\;"><span style="font-size:16px\;"><span style="font-family:arial\;"><span style="margin: 0px\; padding: 0px\; border: 0px\; outline: 0px\; vertical-align: baseline\; background-image: initial\; background-position: initial\; background-size: initial\; background-repeat: initial\; background-attachment: initial\; background-origin: initial\; background-clip: initial\;">Deluxe bus transportation</span></span></span></p>\n	</li>\n	<li style="margin: 0px\; padding: 0px\; border: 0px\; outline: 0px\; vertical-align: baseline\; background-image: initial\; background-position: initial\; background-size: initial\; background-repeat: initial\; background-attachment: initial\; background-origin: initial\; background-clip: initial\; font-style: inherit\; font-weight: inherit\; line-height: inherit\;">\n	<p class="font_8" style="margin: 0px\; padding: 0px\; border: 0px\; outline: 0px\; vertical-align: baseline\; background-image: initial\; background-position: initial\; background-size: initial\; background-repeat: initial\; background-attachment: initial\; background-origin: initial\; background-clip: initial\; color: rgb(var(--color_15))\; letter-spacing: 0em\;"><span style="font-size:16px\;"><span style="font-family:arial\;"><span style="margin: 0px\; padding: 0px\; border: 0px\; outline: 0px\; vertical-align: baseline\; background-image: initial\; background-position: initial\; background-size: initial\; background-repeat: initial\; background-attachment: initial\; background-origin: initial\; background-clip: initial\;">Fluent English-speaking tour guides</span></span></span></p>\n	</li>\n	<li style="margin: 0px\; padding: 0px\; border: 0px\; outline: 0px\; vertical-align: baseline\; background-image: initial\; background-position: initial\; background-size: initial\; background-repeat: initial\; background-attachment: initial\; background-origin: initial\; background-clip: initial\; font-style: inherit\; font-weight: inherit\; line-height: inherit\;">\n	<p class="font_8" style="margin: 0px\; padding: 0px\; border: 0px\; outline: 0px\; vertical-align: baseline\; background-image: initial\; background-position: initial\; background-size: initial\; background-repeat: initial\; background-attachment: initial\; background-origin: initial\; background-clip: initial\; color: rgb(var(--color_15))\; letter-spacing: 0em\;"><span style="font-size:16px\;"><span style="font-family:arial\;"><span style="margin: 0px\; padding: 0px\; border: 0px\; outline: 0px\; vertical-align: baseline\; background-image: initial\; background-position: initial\; background-size: initial\; background-repeat: initial\; background-attachment: initial\; background-origin: initial\; background-clip: initial\;">Entrance fees to all attractions</span></span></span><br />\n	<br />\n	&nbsp\;</p>\n	</li>\n</ul>\n</div>\n<span style="font-size:16px\;"><span style="font-family:arial\;">Click <a href="https://chambermaster.blob.core.windows.net/userfiles/UserFiles/chambers/1578/File/NEWproRM221201INDhopkinsKYP1.pdf">HERE</a> for more information.</span></span><br />\n<span style="font-size:16px\;"><span style="font-family:arial\;">Click <a href="https://chambermaster.blob.core.windows.net/userfiles/UserFiles/chambers/1578/File/proRM221201INDhopkinsKYP2.pdf">HERE</a> for registration form.</span></span>
LOCATION:Rome Vatican Florence Siena Pisa Venice Milan
UID:e.1578.5694
SEQUENCE:3
DTSTAMP:20260423T114708Z
URL:https://business.hopkinscochamber.com/events/details/chamber-travel-adventures-italy-5694
END:VEVENT

END:VCALENDAR
