BEGIN:VCALENDAR
VERSION:2.0
PRODID:-//ChamberMaster//Event Calendar 2.0//EN
METHOD:PUBLISH
X-PUBLISHED-TTL:P3D
REFRESH-INTERVAL:P3D
CALSCALE:GREGORIAN
BEGIN:VEVENT
DTSTART;VALUE=DATE:20200703
DTEND;VALUE=DATE:20200704
TRANSP:TRANSPARENT
X-MICROSOFT-CDO-ALLDAYEVENT:TRUE
SUMMARY:Chamber Office Closed
DESCRIPTION:Chamber Office Closed In Observance of the 4th of July Holiday
X-ALT-DESC;FMTTYPE=text/html:Chamber Office Closed In Observance of the 4th of July Holiday
LOCATION:
UID:e.1578.4223
SEQUENCE:3
DTSTAMP:20260425T002708Z
URL:https://business.hopkinscochamber.com/events/details/chamber-office-closed-4223
END:VEVENT

END:VCALENDAR
