BEGIN:VCALENDAR
VERSION:2.0
PRODID:-//ChamberMaster//Event Calendar 2.0//EN
METHOD:PUBLISH
X-PUBLISHED-TTL:P3D
REFRESH-INTERVAL:P3D
CALSCALE:GREGORIAN
BEGIN:VEVENT
DTSTART:20240607T114500Z
DTEND:20240607T220000Z
X-MICROSOFT-CDO-ALLDAYEVENT:FALSE
SUMMARY:Chamber Golf Classic 2024
DESCRIPTION:You MUST indicate if you need an A.M. or P.M. Team! Also\, please put in the comment section\, whether you DO or DO NOT need us to provide your team golf carts. If you do not indicate which one\, you will not have carts to play. \n\n\n\nGolf with your friends! Join us for a fun day out on the green\, during our annual Golf Classic. FREE breakfast\, lunch\, snacks\, beverages (and libations)\, PLUS the chance to win prizes on every hole\, as well as overall team prizes.
X-ALT-DESC;FMTTYPE=text/html:You MUST indicate if you need an A.M. or P.M. Team! Also\, please put in the comment section\, whether you DO or DO NOT need us to provide your team golf carts. If you do not indicate which one\, you will not have carts to play.&nbsp\;<br />\n<br />\nGolf with your friends! Join us for a fun day out on the green\, during our annual Golf Classic. FREE breakfast\, lunch\, snacks\, beverages (and libations)\, PLUS the chance to win prizes on every hole\, as well as overall team prizes.&nbsp\;
LOCATION:Lakeshore Country Club 1000 Shamrock Dr. Madisonville\, KY 42431
UID:e.1578.5984
SEQUENCE:3
DTSTAMP:20260422T101412Z
URL:https://business.hopkinscochamber.com/events/details/chamber-golf-classic-2024-5984
END:VEVENT

END:VCALENDAR
