BEGIN:VCALENDAR
VERSION:2.0
PRODID:-//ChamberMaster//Event Calendar 2.0//EN
METHOD:PUBLISH
X-PUBLISHED-TTL:P3D
REFRESH-INTERVAL:P3D
CALSCALE:GREGORIAN
BEGIN:VEVENT
DTSTART:20230602T114500Z
DTEND:20230602T220000Z
X-MICROSOFT-CDO-ALLDAYEVENT:FALSE
SUMMARY:Chamber Golf Classic 2023
DESCRIPTION:If you plan to register online\, PLEASE indicate A.M. or P.M. Team! Also\, please put in the comment section\, whether you DO or DO NOT need us to provide your team golf carts.\n\n\n\nGolf with your friends! Join us for a fun day out on the green\, during our annual Golf Classic. FREE breakfast\, lunch\, snacks\, beverages (and libations)\, PLUS the chance to win prizes on every hole\, as well as overall team prizes.
X-ALT-DESC;FMTTYPE=text/html:If you plan to register online\, PLEASE indicate A.M. or P.M. Team! Also\, please put in the comment section\, whether you DO or DO NOT need us to provide your team golf carts.<br />\n<br />\nGolf with your friends! Join us for a fun day out on the green\, during our annual Golf Classic. FREE breakfast\, lunch\, snacks\, beverages (and libations)\, PLUS the chance to win prizes on every hole\, as well as overall team prizes.&nbsp\;
LOCATION:Madisonville Country Club
UID:e.1578.5936
SEQUENCE:3
DTSTAMP:20260423T044238Z
URL:https://business.hopkinscochamber.com/events/details/chamber-golf-classic-2023-5936
END:VEVENT

END:VCALENDAR
