BEGIN:VCALENDAR
VERSION:2.0
PRODID:-//ChamberMaster//Event Calendar 2.0//EN
METHOD:PUBLISH
X-PUBLISHED-TTL:P3D
REFRESH-INTERVAL:P3D
CALSCALE:GREGORIAN
BEGIN:VEVENT
DTSTART:20210604T130000Z
DTEND:20210604T220000Z
X-MICROSOFT-CDO-ALLDAYEVENT:FALSE
SUMMARY:Chamber Golf Classic 2021 (SOLD OUT)
DESCRIPTION:Golf with your friends! Join us for a fun day out on the green during our annual Golf Classic. FREE breakfast\, lunch\, snacks\, beverages (and libations)\, PLUS the chance to win prizes on every hole as well as overall team prizes.
X-ALT-DESC;FMTTYPE=text/html:Golf with your friends! Join us for a fun day out on the green during our annual Golf Classic.&nbsp\;FREE breakfast\, lunch\, snacks\, beverages (and libations)\, PLUS the chance to win prizes on every hole as well as overall team prizes.&nbsp\;
LOCATION:Lakeshore Country Club\, 1000 Shamrock Drive Madisonville\, KY 42431
UID:e.1578.4545
SEQUENCE:3
DTSTAMP:20260424T103716Z
URL:https://business.hopkinscochamber.com/events/details/chamber-golf-classic-2021-sold-out-4545
END:VEVENT

END:VCALENDAR
