BEGIN:VCALENDAR
VERSION:2.0
PRODID:-//ChamberMaster//Event Calendar 2.0//EN
METHOD:PUBLISH
X-PUBLISHED-TTL:P3D
REFRESH-INTERVAL:P3D
CALSCALE:GREGORIAN
BEGIN:VEVENT
DTSTART:20230622T223000Z
DTEND:20230623T000000Z
X-MICROSOFT-CDO-ALLDAYEVENT:FALSE
SUMMARY:Chamber After Hours- Owensboro Health Medical Group
DESCRIPTION:Please Join us for Chamber After Hours with Owensboro Health Medical Group.
X-ALT-DESC;FMTTYPE=text/html:Please Join us for Chamber After Hours with Owensboro Health Medical Group.&nbsp\;
LOCATION:510 Ruby Dr. Madisonville Ky Madisonville Healthplex
UID:e.1578.5955
SEQUENCE:3
DTSTAMP:20260423T044903Z
URL:https://business.hopkinscochamber.com/events/details/chamber-after-hours-owensboro-health-medical-group-5955
END:VEVENT

END:VCALENDAR
