BEGIN:VCALENDAR
VERSION:2.0
PRODID:-//ChamberMaster//Event Calendar 2.0//EN
METHOD:PUBLISH
X-PUBLISHED-TTL:P3D
REFRESH-INTERVAL:P3D
CALSCALE:GREGORIAN
BEGIN:VEVENT
DTSTART:20240627T223000Z
DTEND:20240628T000000Z
X-MICROSOFT-CDO-ALLDAYEVENT:FALSE
SUMMARY:Chamber After Hours - Owensboro Health
DESCRIPTION:Please join us for a Chamber After Hours at Owensboro Health!
X-ALT-DESC;FMTTYPE=text/html:Please join us for a Chamber After Hours at Owensboro Health!
LOCATION:Madisonville Healthplex 510 Ruby Drive Madisonville\, KY 42431
UID:e.1578.5994
SEQUENCE:3
DTSTAMP:20260422T101617Z
URL:https://business.hopkinscochamber.com/events/details/chamber-after-hours-owensboro-health-5994
END:VEVENT

END:VCALENDAR
