BEGIN:VCALENDAR
VERSION:2.0
PRODID:-//ChamberMaster//Event Calendar 2.0//EN
METHOD:PUBLISH
X-PUBLISHED-TTL:P3D
REFRESH-INTERVAL:P3D
CALSCALE:GREGORIAN
BEGIN:VEVENT
DTSTART:20231019T220000Z
DTEND:20231020T000000Z
X-MICROSOFT-CDO-ALLDAYEVENT:FALSE
SUMMARY:Chamber After Hours-Independence Bank
DESCRIPTION:Please join us for Chamber After Hours with Independence Bank.
X-ALT-DESC;FMTTYPE=text/html:Please join us for Chamber After Hours with Independence Bank.&nbsp\;
LOCATION:1776 N. Main ST
UID:e.1578.5972
SEQUENCE:3
DTSTAMP:20260422T234354Z
URL:https://business.hopkinscochamber.com/events/details/chamber-after-hours-independence-bank-5972
END:VEVENT

END:VCALENDAR
