BEGIN:VCALENDAR
VERSION:2.0
PRODID:-//ChamberMaster//Event Calendar 2.0//EN
METHOD:PUBLISH
X-PUBLISHED-TTL:P3D
REFRESH-INTERVAL:P3D
CALSCALE:GREGORIAN
BEGIN:VEVENT
DTSTART:20241029T220000Z
DTEND:20241029T230000Z
X-MICROSOFT-CDO-ALLDAYEVENT:FALSE
SUMMARY:Chamber After Hours - First United Bank
DESCRIPTION:Join us for a Chamber After Hours with First United Bank & Trust.
X-ALT-DESC;FMTTYPE=text/html:Join us for a Chamber After Hours with First United Bank &amp\; Trust.
LOCATION:162 N Main St Madisonville KY 42431
UID:e.1578.6005
SEQUENCE:3
DTSTAMP:20260420T042400Z
URL:https://business.hopkinscochamber.com/events/details/chamber-after-hours-first-united-bank-6005
END:VEVENT

END:VCALENDAR
