BEGIN:VCALENDAR
VERSION:2.0
PRODID:-//ChamberMaster//Event Calendar 2.0//EN
METHOD:PUBLISH
X-PUBLISHED-TTL:P3D
REFRESH-INTERVAL:P3D
CALSCALE:GREGORIAN
BEGIN:VEVENT
DTSTART:20241203T230000Z
DTEND:20241204T010000Z
X-MICROSOFT-CDO-ALLDAYEVENT:FALSE
SUMMARY:Chamber After Hours - Baptist Health Deaconess Madisonville
DESCRIPTION:Join us for the Chamber After Hours with Baptist Health Deaconess Madisonville! \n\nMore info to come!
X-ALT-DESC;FMTTYPE=text/html:Join us for the Chamber After Hours with Baptist Health Deaconess Madisonville!&nbsp\;<br />\nMore info to come!&nbsp\;
LOCATION:Baptist Health Deaconess Madisonville 900 Hospital Dr. Madisonville KY 42431
UID:e.1578.6001
SEQUENCE:3
DTSTAMP:20260420T011223Z
URL:https://business.hopkinscochamber.com/events/details/chamber-after-hours-baptist-health-deaconess-madisonville-6001
END:VEVENT

END:VCALENDAR
