BEGIN:VCALENDAR
VERSION:2.0
PRODID:-//ChamberMaster//Event Calendar 2.0//EN
METHOD:PUBLISH
X-PUBLISHED-TTL:P3D
REFRESH-INTERVAL:P3D
CALSCALE:GREGORIAN
BEGIN:VEVENT
DTSTART:20231205T230000Z
DTEND:20231206T010000Z
X-MICROSOFT-CDO-ALLDAYEVENT:FALSE
SUMMARY:Chamber After Hours - Baptist Health Deaconess Madisonville
DESCRIPTION:Join us for the annual holiday Chamber After Hours with Baptist Health Deaconess Madisonville. \n\n*Please bring a toy to donate to the WTTL Toy Drive
X-ALT-DESC;FMTTYPE=text/html:Join us for the annual holiday Chamber After Hours with Baptist Health Deaconess Madisonville.&nbsp\;<br />\n*Please bring a toy to donate to the WTTL Toy Drive
LOCATION:Baptist Health Deaconess Madisonville Tower- 8th Floor 200 Clinic Drive\, Madisonville KY
UID:e.1578.5977
SEQUENCE:3
DTSTAMP:20260422T210417Z
URL:https://business.hopkinscochamber.com/events/details/chamber-after-hours-baptist-health-deaconess-madisonville-5977
END:VEVENT

END:VCALENDAR
