BEGIN:VCALENDAR
VERSION:2.0
PRODID:-//ChamberMaster//Event Calendar 2.0//EN
METHOD:PUBLISH
X-PUBLISHED-TTL:P3D
REFRESH-INTERVAL:P3D
CALSCALE:GREGORIAN
BEGIN:VEVENT
DTSTART:20250507T210000Z
DTEND:20250507T220000Z
X-MICROSOFT-CDO-ALLDAYEVENT:FALSE
SUMMARY:Chamber 101
DESCRIPTION:Come join us for an informational session about what the Chamber can do for YOU and your business!
X-ALT-DESC;FMTTYPE=text/html:Come join us for an informational session about what the Chamber can do for YOU and your business!
LOCATION:15 E Center St Madisonville KY 42431
UID:e.1578.6040
SEQUENCE:3
DTSTAMP:20260419T185829Z
URL:https://business.hopkinscochamber.com/events/details/chamber-101-6040
END:VEVENT

END:VCALENDAR
