BEGIN:VCALENDAR
VERSION:2.0
PRODID:-//ChamberMaster//Event Calendar 2.0//EN
METHOD:PUBLISH
X-PUBLISHED-TTL:P3D
REFRESH-INTERVAL:P3D
CALSCALE:GREGORIAN
BEGIN:VEVENT
DTSTART:20250507T180000Z
DTEND:20250507T190000Z
X-MICROSOFT-CDO-ALLDAYEVENT:FALSE
SUMMARY:Chamber 101
DESCRIPTION:Join us for an informational session about what the Chamber can do for YOU and your business!
X-ALT-DESC;FMTTYPE=text/html:Join us for an informational session about what the Chamber can do for YOU and your business!&nbsp\;
LOCATION:15 E Center St Madisonville\, KY 42431
UID:e.1578.6039
SEQUENCE:3
DTSTAMP:20260419T185829Z
URL:https://business.hopkinscochamber.com/events/details/chamber-101-6039
END:VEVENT

END:VCALENDAR
