BEGIN:VCALENDAR
VERSION:2.0
PRODID:-//ChamberMaster//Event Calendar 2.0//EN
METHOD:PUBLISH
X-PUBLISHED-TTL:P3D
REFRESH-INTERVAL:P3D
CALSCALE:GREGORIAN
BEGIN:VEVENT
DTSTART:20250418T180000Z
DTEND:20250418T193000Z
X-MICROSOFT-CDO-ALLDAYEVENT:FALSE
SUMMARY:Canva Class
DESCRIPTION:Join us to learn the in's and out's of Canva\, and how to use it to benefit your business!
X-ALT-DESC;FMTTYPE=text/html:Join us to learn the in&#39\;s and out&#39\;s of Canva\, and how to use it to benefit your business!&nbsp\;
LOCATION:Chamber of Commerce Office 15 E Center St Madisonville\, KY 42431
UID:e.1578.6035
SEQUENCE:3
DTSTAMP:20260419T185752Z
URL:https://business.hopkinscochamber.com/events/details/canva-class-6035
END:VEVENT

END:VCALENDAR
