BEGIN:VCALENDAR
VERSION:2.0
PRODID:-//ChamberMaster//Event Calendar 2.0//EN
METHOD:PUBLISH
X-PUBLISHED-TTL:P3D
REFRESH-INTERVAL:P3D
CALSCALE:GREGORIAN
BEGIN:VEVENT
DTSTART:20220519T220000Z
DTEND:20220520T000000Z
X-MICROSOFT-CDO-ALLDAYEVENT:FALSE
SUMMARY:Business After Hours - Madison on Main
DESCRIPTION:Join us for refreshments and the opportunity to network\, establish new contacts\, renew acquaintances and exchange business information in a relaxed atmosphere. \n\n\n\n*Please park on property south of the building (behind WTTL)*
X-ALT-DESC;FMTTYPE=text/html:Join us for refreshments and the opportunity to network\, establish new contacts\, renew acquaintances and exchange business information in a relaxed atmosphere.&nbsp\;<br />\n<br />\n*Please park on property south of the building (behind WTTL)*
LOCATION:231 S. Main St Madisonville KY 42431
UID:e.1578.5910
SEQUENCE:3
DTSTAMP:20260423T205204Z
URL:https://business.hopkinscochamber.com/events/details/business-after-hours-madison-on-main-5910
END:VEVENT

END:VCALENDAR
