BEGIN:VCALENDAR
VERSION:2.0
PRODID:-//ChamberMaster//Event Calendar 2.0//EN
METHOD:PUBLISH
X-PUBLISHED-TTL:P3D
REFRESH-INTERVAL:P3D
CALSCALE:GREGORIAN
BEGIN:VEVENT
DTSTART:20210610T170000Z
DTEND:20210610T173000Z
X-MICROSOFT-CDO-ALLDAYEVENT:FALSE
SUMMARY:Brightview Health Ribbon Cutting
DESCRIPTION:Ribbon Cutting
X-ALT-DESC;FMTTYPE=text/html:Ribbon Cutting
LOCATION:Brightview Health 9 East Arch St. Madisonville\, KY 42431
UID:e.1578.4758
SEQUENCE:3
DTSTAMP:20260424T120351Z
URL:https://business.hopkinscochamber.com/events/details/brightview-health-ribbon-cutting-4758
END:VEVENT

END:VCALENDAR
