BEGIN:VCALENDAR
VERSION:2.0
PRODID:-//ChamberMaster//Event Calendar 2.0//EN
METHOD:PUBLISH
X-PUBLISHED-TTL:P3D
REFRESH-INTERVAL:P3D
CALSCALE:GREGORIAN
BEGIN:VEVENT
DTSTART:20250313T170000Z
DTEND:20250313T180000Z
X-MICROSOFT-CDO-ALLDAYEVENT:FALSE
SUMMARY:Board Development Lunch & Learn
DESCRIPTION:Join us for this four-session lunch and learn series to learn more about how to strengthen your non-profit leadership! (lunch will be provided each day)\n\nRegister by clicking here - https://docs.google.com/forms/d/e/1FAIpQLSdMKfqBCvXof-2CZt3HuTVZp0Iv1Ba1WzY168jTv6wu5Ee_Bw/viewform?pli=1\n\nFor additional information\, please call 270-825-4379.\n\nClass information-\n\nFebruary 13 - This interactive seminar-style session will clarify the roles and expectations for nonprofit board members and offer suggestions around how to support organization staff without getting in their way. When everyone works together\, organizations succeed.\n\nMarch 13 - Join us as we discuss the board's responsibility to the non-profit organization's fundraising effort. Leave with strategies and specific steps you can implement in your organization to produce sustainable results.\n\nApril 10 - By-Laws are the constitution for a non-profit organization. They are the governing documents that lay out everything a board needs to know and should be doing\, yet many board members have never read their organization's by-laws - and might not even know where to find them. Come prepared to learn how much power that little document can give you to successfully govern your organization.\n\nMay 8 - This session will focus on both board and staff succession planning and the imperative need for maintaining institutional memory. We will discuss pitfalls of failing to plan ahead and strategies to incorporate to make transitions easier and less traumatic for the organization.
X-ALT-DESC;FMTTYPE=text/html:<span style="color: rgb(51\, 51\, 51)\; font-family: sans-serif\, Arial\, Verdana\, &quot\;Trebuchet MS&quot\;\; font-size: 13px\; background-color: rgb(255\, 255\, 255)\;">Join us for this four-session lunch and learn series to learn more about how to strengthen your non-profit leadership! (lunch will be provided each day)</span><br style="color: rgb(51\, 51\, 51)\; font-family: sans-serif\, Arial\, Verdana\, &quot\;Trebuchet MS&quot\;\; font-size: 13px\;" />\n<span style="color: rgb(51\, 51\, 51)\; font-family: sans-serif\, Arial\, Verdana\, &quot\;Trebuchet MS&quot\;\; font-size: 13px\; background-color: rgb(255\, 255\, 255)\;">Register by clicking here -&nbsp\;</span><a href="https://docs.google.com/forms/d/e/1FAIpQLSdMKfqBCvXof-2CZt3HuTVZp0Iv1Ba1WzY168jTv6wu5Ee_Bw/viewform?pli=1" style="color: rgb(7\, 130\, 193)\; font-family: sans-serif\, Arial\, Verdana\, &quot\;Trebuchet MS&quot\;\; font-size: 13px\;">https://docs.google.com/forms/d/e/1FAIpQLSdMKfqBCvXof-2CZt3HuTVZp0Iv1Ba1WzY168jTv6wu5Ee_Bw/viewform?pli=1</a><br style="color: rgb(51\, 51\, 51)\; font-family: sans-serif\, Arial\, Verdana\, &quot\;Trebuchet MS&quot\;\; font-size: 13px\;" />\n<span style="color: rgb(51\, 51\, 51)\; font-family: sans-serif\, Arial\, Verdana\, &quot\;Trebuchet MS&quot\;\; font-size: 13px\; background-color: rgb(255\, 255\, 255)\;">For additional information\, please call 270-825-4379.</span><br style="color: rgb(51\, 51\, 51)\; font-family: sans-serif\, Arial\, Verdana\, &quot\;Trebuchet MS&quot\;\; font-size: 13px\;" />\n<span style="color: rgb(51\, 51\, 51)\; font-family: sans-serif\, Arial\, Verdana\, &quot\;Trebuchet MS&quot\;\; font-size: 13px\; background-color: rgb(255\, 255\, 255)\;">Class information-</span><br style="color: rgb(51\, 51\, 51)\; font-family: sans-serif\, Arial\, Verdana\, &quot\;Trebuchet MS&quot\;\; font-size: 13px\;" />\n<u style="color: rgb(51\, 51\, 51)\; font-family: sans-serif\, Arial\, Verdana\, &quot\;Trebuchet MS&quot\;\; font-size: 13px\;">February 13</u><span style="color: rgb(51\, 51\, 51)\; font-family: sans-serif\, Arial\, Verdana\, &quot\;Trebuchet MS&quot\;\; font-size: 13px\; background-color: rgb(255\, 255\, 255)\;">&nbsp\;-&nbsp\;</span><span class="OYPEnA font-feature-liga-off font-feature-clig-off font-feature-calt-off text-decoration-none text-strikethrough-none" style="color: rgb(51\, 51\, 51)\; font-family: sans-serif\, Arial\, Verdana\, &quot\;Trebuchet MS&quot\;\; font-size: 13px\; font-style: italic\; font-kerning: none\;">This interactive seminar-style session will clarify the roles and expectations for nonprofit board members and offer suggestions around how to support organization staff without getting in their way. When everyone works together\, organizations succeed.</span><br style="color: rgb(51\, 51\, 51)\; font-family: sans-serif\, Arial\, Verdana\, &quot\;Trebuchet MS&quot\;\; font-size: 13px\;" />\n<span style="color: rgb(51\, 51\, 51)\; font-family: sans-serif\, Arial\, Verdana\, &quot\;Trebuchet MS&quot\;\; font-size: 13px\; background-color: rgb(255\, 255\, 255)\;"><u>March 13</u>&nbsp\;-</span><span style="color: rgb(51\, 51\, 51)\; font-family: sans-serif\, Arial\, Verdana\, &quot\;Trebuchet MS&quot\;\; font-size: 13px\; background-color: rgb(255\, 255\, 255)\;">&nbsp\;J</span><span class="OYPEnA font-feature-liga-off font-feature-clig-off font-feature-calt-off text-decoration-none text-strikethrough-none" style="color: rgb(51\, 51\, 51)\; font-family: sans-serif\, Arial\, Verdana\, &quot\;Trebuchet MS&quot\;\; font-size: 13px\; font-style: italic\; font-kerning: none\;">oin us as we discuss the board&rsquo\;s responsibility to the non-profit organization&rsquo\;s fundraising effort. Leave with strategies and specific steps you can implement in your organization to produce sustainable results.</span><br style="color: rgb(51\, 51\, 51)\; font-family: sans-serif\, Arial\, Verdana\, &quot\;Trebuchet MS&quot\;\; font-size: 13px\;" />\n<u style="color: rgb(51\, 51\, 51)\; font-family: sans-serif\, Arial\, Verdana\, &quot\;Trebuchet MS&quot\;\; font-size: 13px\;">April 10</u><span style="color: rgb(51\, 51\, 51)\; font-family: sans-serif\, Arial\, Verdana\, &quot\;Trebuchet MS&quot\;\; font-size: 13px\; background-color: rgb(255\, 255\, 255)\;">&nbsp\;- B</span><span class="OYPEnA font-feature-liga-off font-feature-clig-off font-feature-calt-off text-decoration-none text-strikethrough-none" style="color: rgb(51\, 51\, 51)\; font-family: sans-serif\, Arial\, Verdana\, &quot\;Trebuchet MS&quot\;\; font-size: 13px\; font-style: italic\; font-kerning: none\;">y-Laws are the constitution for a non-profit organization. They are the governing documents that lay out everything a board needs to know and should be doing\, yet many board members have never read their organization&rsquo\;s by-laws - and might not even know where to find them. Come prepared to learn how much power that little document can give you to successfully govern your organization.</span><br style="color: rgb(51\, 51\, 51)\; font-family: sans-serif\, Arial\, Verdana\, &quot\;Trebuchet MS&quot\;\; font-size: 13px\;" />\n<u style="color: rgb(51\, 51\, 51)\; font-family: sans-serif\, Arial\, Verdana\, &quot\;Trebuchet MS&quot\;\; font-size: 13px\;">May 8</u><span style="color: rgb(51\, 51\, 51)\; font-family: sans-serif\, Arial\, Verdana\, &quot\;Trebuchet MS&quot\;\; font-size: 13px\; background-color: rgb(255\, 255\, 255)\;">&nbsp\;-&nbsp\;</span><span class="OYPEnA font-feature-liga-off font-feature-clig-off font-feature-calt-off text-decoration-none text-strikethrough-none" style="color: rgb(51\, 51\, 51)\; font-family: sans-serif\, Arial\, Verdana\, &quot\;Trebuchet MS&quot\;\; font-size: 13px\; font-style: italic\; font-kerning: none\;">This session will focus on both board and staff succession planning and the imperative need for maintaining institutional memory. We will discuss pitfalls of failing to plan ahead and strategies to incorporate to make transitions easier and less traumatic for the organization.</span>
LOCATION:Chamber Office 15 E Center St Madisonville\, KY 42431
UID:e.1578.6021
SEQUENCE:3
DTSTAMP:20260419T202803Z
URL:https://business.hopkinscochamber.com/events/details/board-development-lunch-learn-6021
END:VEVENT

END:VCALENDAR
