BEGIN:VCALENDAR
VERSION:2.0
PRODID:-//ChamberMaster//Event Calendar 2.0//EN
METHOD:PUBLISH
X-PUBLISHED-TTL:P3D
REFRESH-INTERVAL:P3D
CALSCALE:GREGORIAN
BEGIN:VEVENT
DTSTART:20210514T223000Z
DTEND:20210515T010000Z
X-MICROSOFT-CDO-ALLDAYEVENT:FALSE
SUMMARY:Bike Nite in Hanson\, KY
DESCRIPTION:Bike Nite in Hanson\, KY\n\nCoordinating with Swaggy P's Country Market\n\nAll bikers and enthusiasts are invited - Free event \n\nDoor Prizes\, t-shirts\, BBQ and Fish available and some porch pickin music
X-ALT-DESC;FMTTYPE=text/html:Bike Nite in Hanson\, KY<br />\nCoordinating with Swaggy P&#39\;s Country Market<br />\nAll bikers and enthusiasts are invited - Free event&nbsp\;<br />\nDoor Prizes\, t-shirts\, BBQ and Fish available and some porch pickin music
LOCATION:Hanson\, KY
UID:e.1578.4749
SEQUENCE:3
DTSTAMP:20260424T120454Z
URL:https://business.hopkinscochamber.com/events/details/bike-nite-in-hanson-ky-4749
END:VEVENT

END:VCALENDAR
