BEGIN:VCALENDAR
VERSION:2.0
PRODID:-//ChamberMaster//Event Calendar 2.0//EN
METHOD:PUBLISH
X-PUBLISHED-TTL:P3D
REFRESH-INTERVAL:P3D
CALSCALE:GREGORIAN
BEGIN:VEVENT
DTSTART:20210901T150000Z
DTEND:20210901T153000Z
X-MICROSOFT-CDO-ALLDAYEVENT:FALSE
SUMMARY:Baptist Health Deaconess Virtual Ribbon Cutting
DESCRIPTION:Watch our Facebook Live for a virtual ribbon cutting ceremony for Baptist Health Deaconess in Madisonville.
X-ALT-DESC;FMTTYPE=text/html:Watch our Facebook Live for a virtual ribbon cutting ceremony for Baptist Health Deaconess in Madisonville.&nbsp\;
LOCATION:
UID:e.1578.5249
SEQUENCE:3
DTSTAMP:20260424T065951Z
URL:https://business.hopkinscochamber.com/events/details/baptist-health-deaconess-virtual-ribbon-cutting-5249
END:VEVENT

END:VCALENDAR
