BEGIN:VCALENDAR
VERSION:2.0
PRODID:-//ChamberMaster//Event Calendar 2.0//EN
METHOD:PUBLISH
X-PUBLISHED-TTL:P3D
REFRESH-INTERVAL:P3D
CALSCALE:GREGORIAN
BEGIN:VEVENT
DTSTART:20211012T150000Z
DTEND:20211012T160000Z
X-MICROSOFT-CDO-ALLDAYEVENT:FALSE
SUMMARY:Alzheimer's Support Group Meeting
DESCRIPTION:For the Pennyrile Area Development District
X-ALT-DESC;FMTTYPE=text/html:For the Pennyrile Area Development District
LOCATION:Virtual Via Zoom
UID:e.1578.5275
SEQUENCE:3
DTSTAMP:20260424T055054Z
URL:https://business.hopkinscochamber.com/events/details/alzheimer-s-support-group-meeting-5275
END:VEVENT

END:VCALENDAR
