BEGIN:VCALENDAR
VERSION:2.0
PRODID:-//ChamberMaster//Event Calendar 2.0//EN
METHOD:PUBLISH
X-PUBLISHED-TTL:P3D
REFRESH-INTERVAL:P3D
CALSCALE:GREGORIAN
BEGIN:VEVENT
DTSTART:20210914T150000Z
DTEND:20210914T160000Z
X-MICROSOFT-CDO-ALLDAYEVENT:FALSE
SUMMARY:Alzheimer's Support Group Meeting
DESCRIPTION:
X-ALT-DESC;FMTTYPE=text/html:
LOCATION:This meeting is virtual via Zoom.
UID:e.1578.5261
SEQUENCE:3
DTSTAMP:20260424T065833Z
URL:https://business.hopkinscochamber.com/events/details/alzheimer-s-support-group-meeting-5261
END:VEVENT

END:VCALENDAR
