BEGIN:VCALENDAR
VERSION:2.0
PRODID:-//ChamberMaster//Event Calendar 2.0//EN
METHOD:PUBLISH
X-PUBLISHED-TTL:P3D
REFRESH-INTERVAL:P3D
CALSCALE:GREGORIAN
BEGIN:VEVENT
DTSTART:20200913T010000Z
DTEND:20200913T030000Z
X-MICROSOFT-CDO-ALLDAYEVENT:FALSE
SUMMARY:911 Heroes Run
DESCRIPTION:9/11 Heroes Run
X-ALT-DESC;FMTTYPE=text/html:9/11 Heroes Run
LOCATION:First United Bank Plaza
UID:e.1578.4183
SEQUENCE:3
DTSTAMP:20260424T214946Z
URL:https://business.hopkinscochamber.com/events/details/911-heroes-run-4183
END:VEVENT

END:VCALENDAR
