BEGIN:VCALENDAR
VERSION:2.0
PRODID:-//ChamberMaster//Event Calendar 2.0//EN
METHOD:PUBLISH
X-PUBLISHED-TTL:P3D
REFRESH-INTERVAL:P3D
CALSCALE:GREGORIAN
BEGIN:VEVENT
DTSTART:20220915T150000Z
DTEND:20220915T170000Z
X-MICROSOFT-CDO-ALLDAYEVENT:FALSE
SUMMARY:2nd Chance Employer Workshop
DESCRIPTION:"Second chance hiring is the practice of hiring individuals with a criminal record. Second chance hiring is not only altruistic\, but it also taps into a massive source of talent that many businesses can benefit from. There are an estimated 70 million Americans with arrest or conviction records that create significant barriers to reintegration into society." - US Chamber of Commerce \n \n\nThe more-than-600\,000 citizens who return from prison each year offer talent\, loyalty and motivation that Hopkins County employers have begun to discover.\n\n \n\nJoin us for a Second Chance Employer conversation where you have the opportunity to learn the How and Why of offering 2nd chances and tapping into a new hiring pool. Hear success stories from local employers and learn how you can fit this opportunity into your hiring practices.\n\n \n\nLocated at: Kentucky Innovation Station
X-ALT-DESC;FMTTYPE=text/html:<span style="background-color:rgb(255\, 255\, 255)\; color:rgb(98\, 98\, 98)\; font-family:pt-sans\,sans-serif\; font-size:14px">&quot\;Second chance hiring is the practice of hiring individuals with a criminal record. Second chance hiring is not only altruistic\, but it also taps into a massive source of talent that many businesses can benefit from. There are an estimated 70 million Americans with arrest or conviction records that create significant barriers to reintegration into society.&quot\; - US Chamber of Commerce&nbsp\;</span>\n<div>&nbsp\;</div>\n\n<div>The more-than-600\,000 citizens who return from prison each year offer talent\, loyalty and motivation that Hopkins County employers have begun to discover.</div>\n\n<div>&nbsp\;</div>\n\n<div>Join us for a Second Chance Employer conversation where you have the opportunity to learn the How and Why of offering 2nd chances and tapping into a new hiring pool. Hear success stories from local employers and learn how you can fit this opportunity into your hiring practices.</div>\n\n<div>&nbsp\;</div>\n\n<div>Located at: Kentucky Innovation Station</div>\n
LOCATION:
UID:e.1578.5900
SEQUENCE:3
DTSTAMP:20260423T154646Z
URL:https://business.hopkinscochamber.com/events/details/2nd-chance-employer-workshop-5900
END:VEVENT

END:VCALENDAR
