BEGIN:VCALENDAR
VERSION:2.0
PRODID:-//ChamberMaster//Event Calendar 2.0//EN
METHOD:PUBLISH
X-PUBLISHED-TTL:P3D
REFRESH-INTERVAL:P3D
CALSCALE:GREGORIAN
BEGIN:VEVENT
DTSTART:20240815T163000Z
DTEND:20240815T170000Z
X-MICROSOFT-CDO-ALLDAYEVENT:FALSE
SUMMARY:25 Year Anniversary Ribbon Cutting
DESCRIPTION:Please join us for the ribbon-cutting ceremony celebrating the 25-year anniversary of Carhartt! There will be light refreshments\, tours\, and a special appearance by Governor Andy Beshear!
X-ALT-DESC;FMTTYPE=text/html:Please join us for the ribbon-cutting ceremony celebrating the 25-year anniversary of Carhartt! There will be light refreshments\, tours\, and a special appearance by Governor Andy Beshear!&nbsp\;
LOCATION:Carhartt 380 Estill Baker Rd. Hanson KY 42413
UID:e.1578.5999
SEQUENCE:3
DTSTAMP:20260420T075251Z
URL:https://business.hopkinscochamber.com/events/details/25-year-anniversary-ribbon-cutting-5999
END:VEVENT

END:VCALENDAR
